Workbook

Sheet Takeoff
A1: Item | B1: You enter | C1: Measured in | D1: Order | E1: Unit | F1: Unit cost | G1: Total
A2: Concrete slab 4 in | B2: 600 | C2: =IF(A2="","",VLOOKUP(A2,'Prices'!$A:$F,2,0)) | D2: =IF(OR(A2="",B2=""),"",ROUNDUP(B2*VLOOKUP(A2,'Prices'!$A:$F,4,0)*(1+VLOOKUP(A2,'Prices'!$A:$F,5,0)),0)) | E2: =IF(A2="","",VLOOKUP(A2,'Prices'!$A:$F,3,0)) | F2: =IF(A2="","",VLOOKUP(A2,'Prices'!$A:$F,6,0)) | G2: =IF(D2="","",D2*F2)
A3: Drywall 1/2 in | B3: 1400 | C3: =IF(A3="","",VLOOKUP(A3,'Prices'!$A:$F,2,0)) | D3: =IF(OR(A3="",B3=""),"",ROUNDUP(B3*VLOOKUP(A3,'Prices'!$A:$F,4,0)*(1+VLOOKUP(A3,'Prices'!$A:$F,5,0)),0)) | E3: =IF(A3="","",VLOOKUP(A3,'Prices'!$A:$F,3,0)) | F3: =IF(A3="","",VLOOKUP(A3,'Prices'!$A:$F,6,0)) | G3: =IF(D3="","",D3*F3)
A4: Studs 2x4 @ 16 in | B4: 180 | C4: =IF(A4="","",VLOOKUP(A4,'Prices'!$A:$F,2,0)) | D4: =IF(OR(A4="",B4=""),"",ROUNDUP(B4*VLOOKUP(A4,'Prices'!$A:$F,4,0)*(1+VLOOKUP(A4,'Prices'!$A:$F,5,0)),0)) | E4: =IF(A4="","",VLOOKUP(A4,'Prices'!$A:$F,3,0)) | F4: =IF(A4="","",VLOOKUP(A4,'Prices'!$A:$F,6,0)) | G4: =IF(D4="","",D4*F4)
A5: Interior paint, 2 coats | B5: 1400 | C5: =IF(A5="","",VLOOKUP(A5,'Prices'!$A:$F,2,0)) | D5: =IF(OR(A5="",B5=""),"",ROUNDUP(B5*VLOOKUP(A5,'Prices'!$A:$F,4,0)*(1+VLOOKUP(A5,'Prices'!$A:$F,5,0)),0)) | E5: =IF(A5="","",VLOOKUP(A5,'Prices'!$A:$F,3,0)) | F5: =IF(A5="","",VLOOKUP(A5,'Prices'!$A:$F,6,0)) | G5: =IF(D5="","",D5*F5)
A6: Dumpster and cleanup | B6: 2 | C6: =IF(A6="","",VLOOKUP(A6,'Prices'!$A:$F,2,0)) | D6: =IF(OR(A6="",B6=""),"",ROUNDUP(B6*VLOOKUP(A6,'Prices'!$A:$F,4,0)*(1+VLOOKUP(A6,'Prices'!$A:$F,5,0)),0)) | E6: =IF(A6="","",VLOOKUP(A6,'Prices'!$A:$F,3,0)) | F6: =IF(A6="","",VLOOKUP(A6,'Prices'!$A:$F,6,0)) | G6: =IF(D6="","",D6*F6)
C7: =IF(A7="","",VLOOKUP(A7,'Prices'!$A:$F,2,0)) | D7: =IF(OR(A7="",B7=""),"",ROUNDUP(B7*VLOOKUP(A7,'Prices'!$A:$F,4,0)*(1+VLOOKUP(A7,'Prices'!$A:$F,5,0)),0)) | E7: =IF(A7="","",VLOOKUP(A7,'Prices'!$A:$F,3,0)) | F7: =IF(A7="","",VLOOKUP(A7,'Prices'!$A:$F,6,0)) | G7: =IF(D7="","",D7*F7)
C8: =IF(A8="","",VLOOKUP(A8,'Prices'!$A:$F,2,0)) | D8: =IF(OR(A8="",B8=""),"",ROUNDUP(B8*VLOOKUP(A8,'Prices'!$A:$F,4,0)*(1+VLOOKUP(A8,'Prices'!$A:$F,5,0)),0)) | E8: =IF(A8="","",VLOOKUP(A8,'Prices'!$A:$F,3,0)) | F8: =IF(A8="","",VLOOKUP(A8,'Prices'!$A:$F,6,0)) | G8: =IF(D8="","",D8*F8)
C9: =IF(A9="","",VLOOKUP(A9,'Prices'!$A:$F,2,0)) | D9: =IF(OR(A9="",B9=""),"",ROUNDUP(B9*VLOOKUP(A9,'Prices'!$A:$F,4,0)*(1+VLOOKUP(A9,'Prices'!$A:$F,5,0)),0)) | E9: =IF(A9="","",VLOOKUP(A9,'Prices'!$A:$F,3,0)) | F9: =IF(A9="","",VLOOKUP(A9,'Prices'!$A:$F,6,0)) | G9: =IF(D9="","",D9*F9)
C10: =IF(A10="","",VLOOKUP(A10,'Prices'!$A:$F,2,0)) | D10: =IF(OR(A10="",B10=""),"",ROUNDUP(B10*VLOOKUP(A10,'Prices'!$A:$F,4,0)*(1+VLOOKUP(A10,'Prices'!$A:$F,5,0)),0)) | E10: =IF(A10="","",VLOOKUP(A10,'Prices'!$A:$F,3,0)) | F10: =IF(A10="","",VLOOKUP(A10,'Prices'!$A:$F,6,0)) | G10: =IF(D10="","",D10*F10)
C11: =IF(A11="","",VLOOKUP(A11,'Prices'!$A:$F,2,0)) | D11: =IF(OR(A11="",B11=""),"",ROUNDUP(B11*VLOOKUP(A11,'Prices'!$A:$F,4,0)*(1+VLOOKUP(A11,'Prices'!$A:$F,5,0)),0)) | E11: =IF(A11="","",VLOOKUP(A11,'Prices'!$A:$F,3,0)) | F11: =IF(A11="","",VLOOKUP(A11,'Prices'!$A:$F,6,0)) | G11: =IF(D11="","",D11*F11)
C12: =IF(A12="","",VLOOKUP(A12,'Prices'!$A:$F,2,0)) | D12: =IF(OR(A12="",B12=""),"",ROUNDUP(B12*VLOOKUP(A12,'Prices'!$A:$F,4,0)*(1+VLOOKUP(A12,'Prices'!$A:$F,5,0)),0)) | E12: =IF(A12="","",VLOOKUP(A12,'Prices'!$A:$F,3,0)) | F12: =IF(A12="","",VLOOKUP(A12,'Prices'!$A:$F,6,0)) | G12: =IF(D12="","",D12*F12)
C13: =IF(A13="","",VLOOKUP(A13,'Prices'!$A:$F,2,0)) | D13: =IF(OR(A13="",B13=""),"",ROUNDUP(B13*VLOOKUP(A13,'Prices'!$A:$F,4,0)*(1+VLOOKUP(A13,'Prices'!$A:$F,5,0)),0)) | E13: =IF(A13="","",VLOOKUP(A13,'Prices'!$A:$F,3,0)) | F13: =IF(A13="","",VLOOKUP(A13,'Prices'!$A:$F,6,0)) | G13: =IF(D13="","",D13*F13)
C14: =IF(A14="","",VLOOKUP(A14,'Prices'!$A:$F,2,0)) | D14: =IF(OR(A14="",B14=""),"",ROUNDUP(B14*VLOOKUP(A14,'Prices'!$A:$F,4,0)*(1+VLOOKUP(A14,'Prices'!$A:$F,5,0)),0)) | E14: =IF(A14="","",VLOOKUP(A14,'Prices'!$A:$F,3,0)) | F14: =IF(A14="","",VLOOKUP(A14,'Prices'!$A:$F,6,0)) | G14: =IF(D14="","",D14*F14)
C15: =IF(A15="","",VLOOKUP(A15,'Prices'!$A:$F,2,0)) | D15: =IF(OR(A15="",B15=""),"",ROUNDUP(B15*VLOOKUP(A15,'Prices'!$A:$F,4,0)*(1+VLOOKUP(A15,'Prices'!$A:$F,5,0)),0)) | E15: =IF(A15="","",VLOOKUP(A15,'Prices'!$A:$F,3,0)) | F15: =IF(A15="","",VLOOKUP(A15,'Prices'!$A:$F,6,0)) | G15: =IF(D15="","",D15*F15)
C16: =IF(A16="","",VLOOKUP(A16,'Prices'!$A:$F,2,0)) | D16: =IF(OR(A16="",B16=""),"",ROUNDUP(B16*VLOOKUP(A16,'Prices'!$A:$F,4,0)*(1+VLOOKUP(A16,'Prices'!$A:$F,5,0)),0)) | E16: =IF(A16="","",VLOOKUP(A16,'Prices'!$A:$F,3,0)) | F16: =IF(A16="","",VLOOKUP(A16,'Prices'!$A:$F,6,0)) | G16: =IF(D16="","",D16*F16)
C17: =IF(A17="","",VLOOKUP(A17,'Prices'!$A:$F,2,0)) | D17: =IF(OR(A17="",B17=""),"",ROUNDUP(B17*VLOOKUP(A17,'Prices'!$A:$F,4,0)*(1+VLOOKUP(A17,'Prices'!$A:$F,5,0)),0)) | E17: =IF(A17="","",VLOOKUP(A17,'Prices'!$A:$F,3,0)) | F17: =IF(A17="","",VLOOKUP(A17,'Prices'!$A:$F,6,0)) | G17: =IF(D17="","",D17*F17)
C18: =IF(A18="","",VLOOKUP(A18,'Prices'!$A:$F,2,0)) | D18: =IF(OR(A18="",B18=""),"",ROUNDUP(B18*VLOOKUP(A18,'Prices'!$A:$F,4,0)*(1+VLOOKUP(A18,'Prices'!$A:$F,5,0)),0)) | E18: =IF(A18="","",VLOOKUP(A18,'Prices'!$A:$F,3,0)) | F18: =IF(A18="","",VLOOKUP(A18,'Prices'!$A:$F,6,0)) | G18: =IF(D18="","",D18*F18)
... C41: =IF(A41="","",VLOOKUP(A41,'Prices'!$A:$F,2,0)) | D41: =IF(OR(A41="",B41=""),"",ROUNDUP(B41*VLOOKUP(A41,'Prices'!$A:$F,4,0)*(1+VLOOKUP(A41,'Prices'!$A:$F,5,0)),0)) | E41: =IF(A41="","",VLOOKUP(A41,'Prices'!$A:$F,3,0)) | F41: =IF(A41="","",VLOOKUP(A41,'Prices'!$A:$F,6,0)) | G41: =IF(D41="","",D41*F41)
F43: Materials subtotal | G43: =SUM(G2:G41)
F44: Markup | G44: 0.25
F45: Price to client | G45: =G43*(1+G44)
F46: Your real margin | G46: =G44/(1+G44)
A48: White cells: you type. Grey cells: they calculate. The full version adds a printable proposal, job cost vs. estimate, and change orders.

Sheet Prices
A1: Item | B1: Measured in | C1: Ordered in | D1: Factor | E1: Waste | F1: Unit cost (EXAMPLE)
A2: Concrete slab 4 in | B2: sq ft | C2: cu yd | D2: =(4/12)/27 | E2: 0.08 | F2: 165
A3: Drywall 1/2 in | B3: sq ft | C3: sheets 4x8 | D3: =1/32 | E3: 0.12 | F3: 16
A4: Studs 2x4 @ 16 in | B4: lin ft | C4: each | D4: 0.75 | E4: 0.1 | F4: 4.5
A5: Interior paint, 2 coats | B5: sq ft | C5: gal | D5: =2/350 | E5: 0.05 | F5: 38
A6: Shingles | B6: sq ft | C6: bundles | D6: =3/100 | E6: 0.1 | F6: 42
A7: Floor tile | B7: sq ft | C7: sq ft | D7: 1 | E7: 0.1 | F7: 3.2
A8: Dumpster and cleanup | B8: hauls | C8: hauls | D8: 1 | E8: 0 | F8: 450
A33: Put your prices here once. The takeoff uses them on its own. Factor = how much you order per unit you measure.
